BEGIN:VCALENDAR
VERSION:2.0
PRODID:-//Filmhuis Mechelen - ECPv4.3.1.1//NONSGML v1.0//EN
CALSCALE:GREGORIAN
METHOD:PUBLISH
X-WR-CALNAME:Filmhuis Mechelen
X-ORIGINAL-URL:https://www.filmhuismechelen.be
X-WR-CALDESC:Events for Filmhuis Mechelen
BEGIN:VEVENT
DTSTART;TZID=UTC+2:20211011T203000
DTEND;TZID=UTC+2:20211011T203000
DTSTAMP:20260422T163216
CREATED:20210625T155152Z
LAST-MODIFIED:20210923T191525Z
UID:22347-1633984200-1633984200@www.filmhuismechelen.be
SUMMARY:ROCKS 
DESCRIPTION:Vertoningen:\nMAANDAG 11 OKTOBER om 20u30 - tickets voor deze vertoning HIER!\nDINSDAG 19 OKTOBER om 18u30 - tickets voor deze vertoning HIER!\n\nTIP: koop eerst uw SEIZOENSKAART en bespaar zo 2 euro per vertoning!\n\nALLE INFO\, TRAILER & RECENSIES HIER!\n\nEen vertoning in het kader van het AFRIKA FILMFESTIVAL!\n
URL:https://www.filmhuismechelen.be/vertoning/rocks/
LOCATION:Minderbroedersgang 5\, Mechelen\, 2800
CATEGORIES:Programma
END:VEVENT
END:VCALENDAR