BEGIN:VCALENDAR
VERSION:2.0
PRODID:-//Filmhuis Mechelen - ECPv4.3.1.1//NONSGML v1.0//EN
CALSCALE:GREGORIAN
METHOD:PUBLISH
X-WR-CALNAME:Filmhuis Mechelen
X-ORIGINAL-URL:https://www.filmhuismechelen.be
X-WR-CALDESC:Events for Filmhuis Mechelen
BEGIN:VEVENT
DTSTART;TZID=UTC+2:20220201T183000
DTEND;TZID=UTC+2:20220201T183000
DTSTAMP:20260421T042440
CREATED:20220120T091245Z
LAST-MODIFIED:20220127T095614Z
UID:24292-1643740200-1643740200@www.filmhuismechelen.be
SUMMARY:RIDERS OF JUSTICE
DESCRIPTION:Vertoningen:\nDINSDAG 1 FEBRUARI om 18u30 - tickets voor deze vertoning HIER!\nMAANDAG 14 FEBRUARI om 20u30 - tickets voor deze vertoning HIER!\n\nExtra datum volgt!\n\nTIP: koop eerst een SEIZOENSKAART\, en bespaar zo het hele seizoen 2 euro per ticket.\n\nINFO & TRAILER HIER!\n\n
URL:https://www.filmhuismechelen.be/vertoning/riders-of-justice/
LOCATION:Minderbroedersgang 5\, Mechelen\, 2800
CATEGORIES:De dinsdagen van het Filmhuis,Programma
END:VEVENT
END:VCALENDAR