BEGIN:VCALENDAR
VERSION:2.0
PRODID:-//Filmhuis Mechelen - ECPv4.3.1.1//NONSGML v1.0//EN
CALSCALE:GREGORIAN
METHOD:PUBLISH
X-WR-CALNAME:Filmhuis Mechelen
X-ORIGINAL-URL:https://www.filmhuismechelen.be
X-WR-CALDESC:Events for Filmhuis Mechelen
BEGIN:VEVENT
DTSTART;TZID=UTC+2:20181030T203000
DTEND;TZID=UTC+2:20181030T203000
DTSTAMP:20260421T215613
CREATED:20181009T122021Z
LAST-MODIFIED:20181009T122100Z
UID:10484-1540931400-1540931400@www.filmhuismechelen.be
SUMMARY:RAMEN SHOP
DESCRIPTION:Vertoningen:\nZONDAG 21/10 om 11u00 (+ ontbijt vanaf 10u00).\nDINSDAG 30/10 om 18u30.\nDINSDAG 30/10 om 20u30.\n\n
URL:https://www.filmhuismechelen.be/vertoning/ramen-shop-2/
CATEGORIES:De dinsdagen van het Filmhuis,Programma
END:VEVENT
END:VCALENDAR