BEGIN:VCALENDAR
VERSION:2.0
PRODID:-//Filmhuis Mechelen - ECPv4.3.1.1//NONSGML v1.0//EN
CALSCALE:GREGORIAN
METHOD:PUBLISH
X-WR-CALNAME:Filmhuis Mechelen
X-ORIGINAL-URL:https://www.filmhuismechelen.be
X-WR-CALDESC:Events for Filmhuis Mechelen
BEGIN:VEVENT
DTSTART;TZID=UTC+2:20181203T203000
DTEND;TZID=UTC+2:20181203T203000
DTSTAMP:20260423T102803
CREATED:20180927T102053Z
LAST-MODIFIED:20180927T102053Z
UID:10424-1543869000-1543869000@www.filmhuismechelen.be
SUMMARY:RAFIKI
DESCRIPTION:Vertoning:\nMAANDAG 3 DECEMBER om 20u30.\n\nEen organisatie i.s.m. Mechelen Mondiaal en Plan International België.\n\n
URL:https://www.filmhuismechelen.be/vertoning/rafiki/
CATEGORIES:Programma
END:VEVENT
END:VCALENDAR