BEGIN:VCALENDAR
VERSION:2.0
PRODID:-//Filmhuis Mechelen - ECPv4.3.1.1//NONSGML v1.0//EN
CALSCALE:GREGORIAN
METHOD:PUBLISH
X-WR-CALNAME:Filmhuis Mechelen
X-ORIGINAL-URL:https://www.filmhuismechelen.be
X-WR-CALDESC:Events for Filmhuis Mechelen
BEGIN:VEVENT
DTSTART;TZID=UTC+2:20180129T203000
DTEND;TZID=UTC+2:20180129T203000
DTSTAMP:20260425T140330
CREATED:20171129T182005Z
LAST-MODIFIED:20180117T110918Z
UID:8721-1517257800-1517257800@www.filmhuismechelen.be
SUMMARY:RABOT
DESCRIPTION:Vertoning om 20u30.\n\n\n\n 
URL:https://www.filmhuismechelen.be/vertoning/rabot/
CATEGORIES:Documentaire,Programma
END:VEVENT
END:VCALENDAR