BEGIN:VCALENDAR
VERSION:2.0
PRODID:-//Filmhuis Mechelen - ECPv4.3.1.1//NONSGML v1.0//EN
CALSCALE:GREGORIAN
METHOD:PUBLISH
X-WR-CALNAME:Filmhuis Mechelen
X-ORIGINAL-URL:https://www.filmhuismechelen.be
X-WR-CALDESC:Events for Filmhuis Mechelen
BEGIN:VEVENT
DTSTART;TZID=UTC+2:20211005T203000
DTEND;TZID=UTC+2:20211005T203000
DTSTAMP:20260422T201315
CREATED:20210920T122909Z
LAST-MODIFIED:20210923T185202Z
UID:23189-1633465800-1633465800@www.filmhuismechelen.be
SUMMARY:QUO VADIS\, AIDA?
DESCRIPTION:Vertoningen:\nDINSDAG 5 OKTOBER om 20u30 - tickets voor deze vertoning HIER!\nMAANDAG 18 OKTOBER om 18u30 - tickets voor deze vertoning HIER!\n\nTIP: koop eerst uw SEIZOENSKAART\, en bespaar zo 2 euro per ticket!\n\nALLE INFO\, TRAILER EN RECENSIES HIER!\n\n
URL:https://www.filmhuismechelen.be/vertoning/quo-vadis-aida/
LOCATION:Minderbroedersgang 5\, Mechelen\, 2800
CATEGORIES:De dinsdagen van het Filmhuis,Programma
END:VEVENT
END:VCALENDAR