BEGIN:VCALENDAR
VERSION:2.0
PRODID:-//Filmhuis Mechelen - ECPv4.3.1.1//NONSGML v1.0//EN
CALSCALE:GREGORIAN
METHOD:PUBLISH
X-WR-CALNAME:Filmhuis Mechelen
X-ORIGINAL-URL:https://www.filmhuismechelen.be
X-WR-CALDESC:Events for Filmhuis Mechelen
BEGIN:VEVENT
DTSTART;TZID=UTC+2:20190910T183000
DTEND;TZID=UTC+2:20190910T183000
DTSTAMP:20260420T193854
CREATED:20190820T174858Z
LAST-MODIFIED:20190821T204343Z
UID:12357-1568140200-1568140200@www.filmhuismechelen.be
SUMMARY:QUEEN OF HEARTS
DESCRIPTION:Vertoningen:\nDINSDAG 10 SEPTEMBER om 18u30.\nDINSDAG 17 SEPTEMBER om 20u30.\n\nAlle info & trailer HIER!\n\n
URL:https://www.filmhuismechelen.be/vertoning/queen-of-hearts/
CATEGORIES:De dinsdagen van het Filmhuis,Programma
END:VEVENT
END:VCALENDAR