BEGIN:VCALENDAR
VERSION:2.0
PRODID:-//Filmhuis Mechelen - ECPv4.3.1.1//NONSGML v1.0//EN
CALSCALE:GREGORIAN
METHOD:PUBLISH
X-WR-CALNAME:Filmhuis Mechelen
X-ORIGINAL-URL:https://www.filmhuismechelen.be
X-WR-CALDESC:Events for Filmhuis Mechelen
BEGIN:VEVENT
DTSTART;TZID=UTC+2:20211004T183000
DTEND;TZID=UTC+2:20211004T183000
DTSTAMP:20260422T220600
CREATED:20210828T104216Z
LAST-MODIFIED:20210923T193016Z
UID:22891-1633372200-1633372200@www.filmhuismechelen.be
SUMMARY:PROMISING YOUNG WOMAN
DESCRIPTION:Vertoningen:\nMAANDAG 4 OKTOBER om 18u30 - tickets voor deze vertoning HIER!\nMAANDAG 25 OKTOBER om 18u30 - tickets voor deze vertoning HIER!\n\nTIP: koop eerst uw SEIZOENSKAART\, en bespaar zo 2 euro per ticket!\n\nALLE INFO\, TRAILER & RECENSIES HIER!\n\n
URL:https://www.filmhuismechelen.be/vertoning/promising-young-woman-2/
LOCATION:Minderbroedersgang 5\, Mechelen\, 2800
CATEGORIES:Programma
END:VEVENT
END:VCALENDAR