BEGIN:VCALENDAR
VERSION:2.0
PRODID:-//Filmhuis Mechelen - ECPv4.3.1.1//NONSGML v1.0//EN
CALSCALE:GREGORIAN
METHOD:PUBLISH
X-WR-CALNAME:Filmhuis Mechelen
X-ORIGINAL-URL:https://www.filmhuismechelen.be
X-WR-CALDESC:Events for Filmhuis Mechelen
BEGIN:VEVENT
DTSTART;TZID=UTC+2:20210807T213000
DTEND;TZID=UTC+2:20210807T213000
DTSTAMP:20260420T224836
CREATED:20210611T155531Z
LAST-MODIFIED:20210804T125026Z
UID:22283-1628371800-1628371800@www.filmhuismechelen.be
SUMMARY:Première in open lucht: LOURDES
DESCRIPTION:Een unieke PREMIÈREVERTONING in OPENLUCHT!\n\nop ZATERDAG 7 AUGUSTUS 2021\n\nLOKATIE: (de pas gerestaureerde) stiltetuin van het Aartsbisschoppelijk Paleis\n\nIngang (vanaf 20u45) via de Schoutetstraat.\n\nVertoning na zonsondergang (+/- 21u30)\n\nONLINE-TICKETS zijn HIER te koop..\n\nALLE INFO\, TRAILER & RECENSIES HIER!\n\nBij slecht weer verplaatsen we de vertoning naar het Cultuurcentrum.\n\n\n\n \n\n\n\n\n20u45: deuren\n21u00: verwelkoming\n21u10: inleiding door Leo De Weerdt sj\n\n\nDe vertoning start na zonsondergang (+/- 21u30)\nBij slecht weer verplaatsen we de vertoning naar het Cultuurcentrum.\n\nEen organisatie in samenwerking met\n- CCV Vlaams-Brabant & Mechelen\n- de Mechelse Parochies.\n\nMet dank aan\n- het aartsbisdom Mechelen-Brussel\n- Dalton Distribution
URL:https://www.filmhuismechelen.be/vertoning/premiere-in-open-lucht-lourdes/
CATEGORIES:Openluchtvertoning,Programma,Zomerfilms
END:VEVENT
END:VCALENDAR