BEGIN:VCALENDAR
VERSION:2.0
PRODID:-//Filmhuis Mechelen - ECPv4.3.1.1//NONSGML v1.0//EN
CALSCALE:GREGORIAN
METHOD:PUBLISH
X-WR-CALNAME:Filmhuis Mechelen
X-ORIGINAL-URL:https://www.filmhuismechelen.be
X-WR-CALDESC:Events for Filmhuis Mechelen
BEGIN:VEVENT
DTSTART;TZID=UTC+2:20191029T183000
DTEND;TZID=UTC+2:20191029T183000
DTSTAMP:20260421T022659
CREATED:20191007T133549Z
LAST-MODIFIED:20191029T192107Z
UID:12766-1572373800-1572373800@www.filmhuismechelen.be
SUMMARY:PORTRAIT DE LA JEUNE FILLE EN FEU
DESCRIPTION:Vertoningen:\nDINSDAG 29 OKTOBER om 18u30.\nDINSDAG 12 NOVEMBER om 20u45.\nDINSDAG 19 NOVEMBER om 18u30.\n\nALLE INFO\, TRAILER & RECENSIES HIER!\n\nEen vertoning in het kader van het Holebifilmfestival.\n\nIn samenwerking met Academie Mechelen.\n\n\n\n \n\n\n\n 
URL:https://www.filmhuismechelen.be/vertoning/portrait-de-la-jeune-fille-en-feu-3/
CATEGORIES:De dinsdagen van het Filmhuis,Programma
END:VEVENT
END:VCALENDAR