BEGIN:VCALENDAR
VERSION:2.0
PRODID:-//Filmhuis Mechelen - ECPv4.3.1.1//NONSGML v1.0//EN
CALSCALE:GREGORIAN
METHOD:PUBLISH
X-WR-CALNAME:Filmhuis Mechelen
X-ORIGINAL-URL:https://www.filmhuismechelen.be
X-WR-CALDESC:Events for Filmhuis Mechelen
BEGIN:VEVENT
DTSTART;TZID=UTC+2:20211029T210500
DTEND;TZID=UTC+2:20211029T210500
DTSTAMP:20260422T220549
CREATED:20211020T095833Z
LAST-MODIFIED:20211029T184615Z
UID:23362-1635541500-1635541500@www.filmhuismechelen.be
SUMMARY:PINOCCHIO (Italiaanse versie)
DESCRIPTION:OPGELET: Er zijn nieuwe coronamaatregelen van kracht!\n\n\nBij de vertoningen van 29 oktober geldt mondmaskerplicht.\nVanaf 1 november hanteren we bij onze vertoningen het COVID SAFE TICKET: als u bij de scan van uw coronapas 'covid safe' wordt verklaard\, hoeft een mondmasker niet.\n\nVertoningen:\nVRIJDAG 29 OKTOBER om 21u05 (Italiaans gesproken versie!) - TICKETS voor deze vertoning HIER!\n\nMAANDAG 15 NOVEMBER om 18u30 (Italiaans gesproken versie!) - TICKETS voor deze vertoning HIER!\n\nALLE INFO & TRAILER HIER!\n\n
URL:https://www.filmhuismechelen.be/vertoning/pinocchio-italiaanse-versie/
LOCATION:Minderbroedersgang 5\, Mechelen\, 2800
CATEGORIES:Programma
END:VEVENT
END:VCALENDAR