BEGIN:VCALENDAR
VERSION:2.0
PRODID:-//Filmhuis Mechelen - ECPv4.3.1.1//NONSGML v1.0//EN
CALSCALE:GREGORIAN
METHOD:PUBLISH
X-WR-CALNAME:Filmhuis Mechelen
X-ORIGINAL-URL:https://www.filmhuismechelen.be
X-WR-CALDESC:Events for Filmhuis Mechelen
BEGIN:VEVENT
DTSTART;TZID=UTC+2:20211115T183000
DTEND;TZID=UTC+2:20211115T183000
DTSTAMP:20260422T201549
CREATED:20211020T100056Z
LAST-MODIFIED:20211022T132829Z
UID:23364-1637001000-1637001000@www.filmhuismechelen.be
SUMMARY:PINOCCHIO (Italiaanse versie)
DESCRIPTION:Vertoning:\nMAANDAG 15 NOVEMBER om 18u30 (Italiaans gesproken versie!)\n\nONLINE-TICKETS voor deze vertoning HIER!\n\nALLE INFO & TRAILER HIER!\n\n
URL:https://www.filmhuismechelen.be/vertoning/pinocchio-italiaanse-versie-2/
LOCATION:Minderbroedersgang 5\, Mechelen\, 2800
CATEGORIES:Programma
END:VEVENT
END:VCALENDAR