BEGIN:VCALENDAR
VERSION:2.0
PRODID:-//Filmhuis Mechelen - ECPv4.3.1.1//NONSGML v1.0//EN
CALSCALE:GREGORIAN
METHOD:PUBLISH
X-WR-CALNAME:Filmhuis Mechelen
X-ORIGINAL-URL:https://www.filmhuismechelen.be
X-WR-CALDESC:Events for Filmhuis Mechelen
BEGIN:VEVENT
DTSTART;TZID=UTC+2:20180410T204000
DTEND;TZID=UTC+2:20180410T204000
DTSTAMP:20260425T173452
CREATED:20180223T150754Z
LAST-MODIFIED:20180223T150754Z
UID:9499-1523392800-1523392800@www.filmhuismechelen.be
SUMMARY:PHANTOM THREAD
DESCRIPTION:Vertoningen:\nDINSDAG 10 APRIL om 18u30.\nDINSDAG 10 APRIL om 20u40.\n\n\n
URL:https://www.filmhuismechelen.be/vertoning/phantom-thread/
CATEGORIES:De dinsdagen van het Filmhuis,Programma
END:VEVENT
END:VCALENDAR