BEGIN:VCALENDAR
VERSION:2.0
PRODID:-//Filmhuis Mechelen - ECPv4.3.1.1//NONSGML v1.0//EN
CALSCALE:GREGORIAN
METHOD:PUBLISH
X-WR-CALNAME:Filmhuis Mechelen
X-ORIGINAL-URL:https://www.filmhuismechelen.be
X-WR-CALDESC:Events for Filmhuis Mechelen
BEGIN:VEVENT
DTSTART;TZID=UTC+2:20220418T201500
DTEND;TZID=UTC+2:20220418T201500
DTSTAMP:20260421T123335
CREATED:20220331T092837Z
LAST-MODIFIED:20220412T184103Z
UID:25148-1650312900-1650312900@www.filmhuismechelen.be
SUMMARY:PETROV'S FLU
DESCRIPTION:Vertoning:\n- MAANDAG 18 APRIL om 20u15 - tickets voor deze vertoning HIER!\n\nTIP: koop eerst een SEIZOENSKAART\, en bespaar zo 2 euro per ticket.\n\nINFO\, TRAILER & RECENSIES HIER!\n\n
URL:https://www.filmhuismechelen.be/vertoning/petrovs-flu-2/
LOCATION:Minderbroedersgang 5\, Mechelen\, 2800
CATEGORIES:Programma
END:VEVENT
END:VCALENDAR