BEGIN:VCALENDAR
VERSION:2.0
PRODID:-//Filmhuis Mechelen - ECPv4.3.1.1//NONSGML v1.0//EN
CALSCALE:GREGORIAN
METHOD:PUBLISH
X-WR-CALNAME:Filmhuis Mechelen
X-ORIGINAL-URL:https://www.filmhuismechelen.be
X-WR-CALDESC:Events for Filmhuis Mechelen
BEGIN:VEVENT
DTSTART;TZID=UTC+2:20171205T183000
DTEND;TZID=UTC+2:20171205T183000
DTSTAMP:20260425T160812
CREATED:20171018T125013Z
LAST-MODIFIED:20171018T125013Z
UID:8406-1512498600-1512498600@www.filmhuismechelen.be
SUMMARY:PETIT PAYSAN
DESCRIPTION:Twee vertoningen!\nVertoning 1 om 18u30.\nVertoning 2 om 20u30.\n\n
URL:https://www.filmhuismechelen.be/vertoning/petit-paysan-2/
CATEGORIES:De dinsdagen van het Filmhuis,Programma
END:VEVENT
END:VCALENDAR