BEGIN:VCALENDAR
VERSION:2.0
PRODID:-//Filmhuis Mechelen - ECPv4.3.1.1//NONSGML v1.0//EN
CALSCALE:GREGORIAN
METHOD:PUBLISH
X-WR-CALNAME:Filmhuis Mechelen
X-ORIGINAL-URL:https://www.filmhuismechelen.be
X-WR-CALDESC:Events for Filmhuis Mechelen
BEGIN:VEVENT
DTSTART;TZID=UTC+2:20220228T203000
DTEND;TZID=UTC+2:20220228T203000
DTSTAMP:20260421T091353
CREATED:20220131T100525Z
LAST-MODIFIED:20220221T173737Z
UID:24402-1646080200-1646080200@www.filmhuismechelen.be
SUMMARY:OUISTREHAM
DESCRIPTION:Vertoningen:\n- MAANDAG 28 FEBRUARI om 20u30 - tickets voor deze vertoning HIER!\n- MAANDAG 7 MAART om 18u30 - tickets voor deze vertoning HIER!\n\nTIP: koop eerst een SEIZOENSKAART\, en bespaar zo 2 euro per ticket.\n\nALLE INFO\, RECENSIES & TRAILER HIER!\n\n
URL:https://www.filmhuismechelen.be/vertoning/ouistreham-2/
LOCATION:Minderbroedersgang 5\, Mechelen\, 2800
CATEGORIES:Programma
END:VEVENT
END:VCALENDAR