BEGIN:VCALENDAR
VERSION:2.0
PRODID:-//Filmhuis Mechelen - ECPv4.3.1.1//NONSGML v1.0//EN
CALSCALE:GREGORIAN
METHOD:PUBLISH
X-WR-CALNAME:Filmhuis Mechelen
X-ORIGINAL-URL:https://www.filmhuismechelen.be
X-WR-CALDESC:Events for Filmhuis Mechelen
BEGIN:VEVENT
DTSTART;TZID=UTC+2:20210704T220000
DTEND;TZID=UTC+2:20210704T220000
DTSTAMP:20260420T190548
CREATED:20210513T080842Z
LAST-MODIFIED:20210611T161144Z
UID:22053-1625436000-1625436000@www.filmhuismechelen.be
SUMMARY:Openluchtvertoning: JOJO RABBIT
DESCRIPTION:Op ZONDAG 4 JULI herstarten we onze activiteiten met een openluchtvertoning van 'JOJO RABBIT' van Taika Waititi.\n\nALLE INFO\, TRAILER & RECENSIES HIER!\n\nUPDATE: deze vertoning is voorlopig UITVERKOCHT.\nAls de coronamaatregelen het toelaten\, komen mogelijk binnenkort meer tickets vrij.\n\nLokatie: binnentuin van Het Predikheren\, Goswin de Stassartstraat 88\, Mechelen\n\nVertoning na zonsondergang (+/- 22u00)\n\n \n\n\n\n \n\nEen vertoning in het kader van de Predikheerlijke Zomer.\n\n\n\n 
URL:https://www.filmhuismechelen.be/vertoning/openluchtvertoning/
LOCATION:Goswin de Stassartstraat 88\, Mechelen\, 2800\, België
CATEGORIES:Openluchtvertoning,Programma,Zomerfilms
END:VEVENT
END:VCALENDAR