BEGIN:VCALENDAR
VERSION:2.0
PRODID:-//Filmhuis Mechelen - ECPv4.3.1.1//NONSGML v1.0//EN
CALSCALE:GREGORIAN
METHOD:PUBLISH
X-WR-CALNAME:Filmhuis Mechelen
X-ORIGINAL-URL:https://www.filmhuismechelen.be
X-WR-CALDESC:Events for Filmhuis Mechelen
BEGIN:VEVENT
DTSTART;TZID=UTC+2:20240807T213000
DTEND;TZID=UTC+2:20240807T213000
DTSTAMP:20260422T090117
CREATED:20240723T142104Z
LAST-MODIFIED:20240805T065910Z
UID:32753-1723066200-1723066200@www.filmhuismechelen.be
SUMMARY:Openluchtfilm: THE ROLLING STONES: GIMME SHELTER
DESCRIPTION:OPENLUCHTVERTONING!\nOp het binnenplein van Het Predikheren\n(Goswin de Stassartstraat 88)\n\nWOENSDAG 7 AUGUSTUS\nU bent elke avond vanaf 20u30 welkom om op het stemmige terras van een drankje te genieten.\nDe vertoning zelf starten we bij voldoende duisternis\, na zonsondergang (+/- 21u30)\n\nInkom: 5 euro\nONLINE-TICKETS koopt u HIER!\n\n\n\nDe peace & love-hippiedroom eindigde op dramatische en brutale wijze op 6 december 1969 in Altamont\, wanneer een gigantisch gratis festival van de Rolling Stones uitmondt in chaos en geweld.\n\nHet dieptepunt vindt plaats tijdens het concert van de Stones zelf\, wanneer een Hell’s Angel (ingehuurd als ‘security’) vlak voor het podium een toeschouwer doodsteekt…\n\n‘GIMME SHELTER’ is 45 jaar na dato nog altijde een fenomenale maar beangstigende en onthutsende concertfilm.\n\nONLINE-TICKETS koopt u HIER!\nALLE VERDERE INFO & TRAILER HIER!\n\n\n\nEen organisatie i.s.m. De Zomer is van Mechelen en Het Predikheren \n\n
URL:https://www.filmhuismechelen.be/vertoning/openluchtvertoning-in-het-predikheren/
LOCATION:Goswin de Stassartstraat 88\, Mechelen\, 2800\, België
CATEGORIES:Documentaire,Openluchtvertoning,Programma
END:VEVENT
END:VCALENDAR