BEGIN:VCALENDAR
VERSION:2.0
PRODID:-//Filmhuis Mechelen - ECPv4.3.1.1//NONSGML v1.0//EN
CALSCALE:GREGORIAN
METHOD:PUBLISH
X-WR-CALNAME:Filmhuis Mechelen
X-ORIGINAL-URL:https://www.filmhuismechelen.be
X-WR-CALDESC:Events for Filmhuis Mechelen
BEGIN:VEVENT
DTSTART;TZID=UTC+2:20210718T220000
DTEND;TZID=UTC+2:20210718T220000
DTSTAMP:20260420T225508
CREATED:20210513T081920Z
LAST-MODIFIED:20210718T172531Z
UID:22059-1626645600-1626645600@www.filmhuismechelen.be
SUMMARY:Afgelast: PETITE MAMAN + THE HUMAN VOICE
DESCRIPTION:UPDATE: \ndoor een technisch probleem met onze projector moeten we deze vertoningen helaas afgelasten en verplaatsen naar een latere datum.\n\nGekochte tickets worden uiteraard teruggestort.\n\nWe hernemen deze films in augustus onze reguliere programmatie. Vertoningsdata volgen!\n\nOnze excuses voor dit ongemak.\n\n\n\n \n\n \n\n \n\n \n\n \n\n \n\n \n\n \n\nEen vertoning in het kader van de Predikheerlijke Zomer.\n\n
URL:https://www.filmhuismechelen.be/vertoning/openluchtvertoning-3/
LOCATION:Goswin de Stassartstraat 88\, Mechelen\, 2800\, België
CATEGORIES:Openluchtvertoning,Programma,Zomerfilms
END:VEVENT
END:VCALENDAR