BEGIN:VCALENDAR
VERSION:2.0
PRODID:-//Filmhuis Mechelen - ECPv4.3.1.1//NONSGML v1.0//EN
CALSCALE:GREGORIAN
METHOD:PUBLISH
X-WR-CALNAME:Filmhuis Mechelen
X-ORIGINAL-URL:https://www.filmhuismechelen.be
X-WR-CALDESC:Events for Filmhuis Mechelen
BEGIN:VEVENT
DTSTART;TZID=UTC+2:20190924T183000
DTEND;TZID=UTC+2:20190924T183000
DTSTAMP:20260420T142538
CREATED:20190820T160613Z
LAST-MODIFIED:20190823T134714Z
UID:12340-1569349800-1569349800@www.filmhuismechelen.be
SUMMARY:ONLY YOU
DESCRIPTION:Vertoningen:\nDINSDAG 24 SEPTEMBER om 18u30.\nDINSDAG 1 OKTOBER om 20u30.\n\nALLE INFO & TRAILER HIER!\n\n\n\n 
URL:https://www.filmhuismechelen.be/vertoning/only-you/
CATEGORIES:De dinsdagen van het Filmhuis,Programma
END:VEVENT
END:VCALENDAR