BEGIN:VCALENDAR
VERSION:2.0
PRODID:-//Filmhuis Mechelen - ECPv4.3.1.1//NONSGML v1.0//EN
CALSCALE:GREGORIAN
METHOD:PUBLISH
X-WR-CALNAME:Filmhuis Mechelen
X-ORIGINAL-URL:https://www.filmhuismechelen.be
X-WR-CALDESC:Events for Filmhuis Mechelen
BEGIN:VEVENT
DTSTART;TZID=UTC+2:20220412T183000
DTEND;TZID=UTC+2:20220412T183000
DTSTAMP:20260421T091130
CREATED:20220330T133556Z
LAST-MODIFIED:20220412T163608Z
UID:25101-1649788200-1649788200@www.filmhuismechelen.be
SUMMARY:NR. 10
DESCRIPTION:Vertoningen:\n- MAANDAG 18 APRIL om 18u30 - tickets voor deze vertoning HIER!\n- DINSDAG 19 APRIL om 20u30 - tickets voor deze vertoning HIER!\n\nTIP: koop eerst een SEIZOENSKAART\, en bespaar zo 2 euro per ticket.\n\nAlle info\, trailer en recensies HIER!\n\n
URL:https://www.filmhuismechelen.be/vertoning/nr-10/
LOCATION:Minderbroedersgang 5\, Mechelen\, 2800
CATEGORIES:De dinsdagen van het Filmhuis,Programma
END:VEVENT
END:VCALENDAR