BEGIN:VCALENDAR
VERSION:2.0
PRODID:-//Filmhuis Mechelen - ECPv4.3.1.1//NONSGML v1.0//EN
CALSCALE:GREGORIAN
METHOD:PUBLISH
X-WR-CALNAME:Filmhuis Mechelen
X-ORIGINAL-URL:https://www.filmhuismechelen.be
X-WR-CALDESC:Events for Filmhuis Mechelen
BEGIN:VEVENT
DTSTART;TZID=UTC+2:20220510T183000
DTEND;TZID=UTC+2:20220510T183000
DTSTAMP:20260421T123430
CREATED:20220402T135507Z
LAST-MODIFIED:20220421T122743Z
UID:25263-1652207400-1652207400@www.filmhuismechelen.be
SUMMARY:NOBODY HAS TO KNOW
DESCRIPTION:Vertoningen:\n- DINSDAG 10 MEI om 18u30 - tickets voor deze vertoning HIER!\n- MAANDAG 16 MEI om 18u30 - tickets voor deze vertoning HIER!\n- DINSDAG 17 MEI om 20u30 - tickets voor deze vertoning HIER!\n\n\nTIP: koop eerst een SEIZOENSKAART\, en bespaar zo 2 euro per ticket.\n\nAlle info\, trailer en recensies HIER!\n\n
URL:https://www.filmhuismechelen.be/vertoning/nobody-has-to-know/
LOCATION:Minderbroedersgang 5\, Mechelen\, 2800
CATEGORIES:De dinsdagen van het Filmhuis,Programma
END:VEVENT
END:VCALENDAR