BEGIN:VCALENDAR
VERSION:2.0
PRODID:-//Filmhuis Mechelen - ECPv4.3.1.1//NONSGML v1.0//EN
CALSCALE:GREGORIAN
METHOD:PUBLISH
X-WR-CALNAME:Filmhuis Mechelen
X-ORIGINAL-URL:https://www.filmhuismechelen.be
X-WR-CALDESC:Events for Filmhuis Mechelen
BEGIN:VEVENT
DTSTART;TZID=UTC+2:20190204T203000
DTEND;TZID=UTC+2:20190204T203000
DTSTAMP:20260421T181441
CREATED:20181221T190837Z
LAST-MODIFIED:20190131T085553Z
UID:11075-1549312200-1549312200@www.filmhuismechelen.be
SUMMARY:NIET SCHIETEN
DESCRIPTION:Vertoningen:\nMAANDAG 4 FEBRUARI om 20u30.\nDINSDAG 12 FEBRUARI om 18u30.\n\nAlle info\, trailer en recensies vindt u HIER!\n\n
URL:https://www.filmhuismechelen.be/vertoning/niet-schieten/
CATEGORIES:Programma
END:VEVENT
END:VCALENDAR