BEGIN:VCALENDAR
VERSION:2.0
PRODID:-//Filmhuis Mechelen - ECPv4.3.1.1//NONSGML v1.0//EN
CALSCALE:GREGORIAN
METHOD:PUBLISH
X-WR-CALNAME:Filmhuis Mechelen
X-ORIGINAL-URL:https://www.filmhuismechelen.be
X-WR-CALDESC:Events for Filmhuis Mechelen
BEGIN:VEVENT
DTSTART;TZID=UTC+2:20190212T183000
DTEND;TZID=UTC+2:20190212T183000
DTSTAMP:20260421T131437
CREATED:20190128T112310Z
LAST-MODIFIED:20190131T085717Z
UID:11312-1549996200-1549996200@www.filmhuismechelen.be
SUMMARY:NIET SCHIETEN
DESCRIPTION:Vertoningen:\nMAANDAG 4 FEBRUARI om 20u30.\nDINSDAG 12 FEBRUARI om 18u30.\n\nAlle info\, trailer en recensies vindt u HIER!\n\n
URL:https://www.filmhuismechelen.be/vertoning/niet-schieten-2/
CATEGORIES:De dinsdagen van het Filmhuis,Programma
END:VEVENT
END:VCALENDAR