BEGIN:VCALENDAR
VERSION:2.0
PRODID:-//Filmhuis Mechelen - ECPv4.3.1.1//NONSGML v1.0//EN
CALSCALE:GREGORIAN
METHOD:PUBLISH
X-WR-CALNAME:Filmhuis Mechelen
X-ORIGINAL-URL:https://www.filmhuismechelen.be
X-WR-CALDESC:Events for Filmhuis Mechelen
BEGIN:VEVENT
DTSTART;TZID=UTC+2:20200914T220000
DTEND;TZID=UTC+2:20200914T220000
DTSTAMP:20260421T043345
CREATED:20200831T085352Z
LAST-MODIFIED:20200902T133338Z
UID:17752-1600120800-1600120800@www.filmhuismechelen.be
SUMMARY:NICK CAVE: 20.000 DAYS ON EARTH (openluchtcinema) - VOLZET!
DESCRIPTION:MAANDAG 14 SEPTEMBER\n\nOPGELET: de reservaties voor beide vertoningen zijn ondertussen helaas helemaal VOLZET!\n\n\nVertoning 1: na zonsondergang (+/- 20u15) - volzet\n\nVertoning 2: om 22u00 - volzet \n\n \n\nLokatie: binnentuin van Het Predikheren\, Goswin de Stassartstraat 88.\n\nEen gratis openluchtvertoning in het kader van de Predikheerlijke Zomer!\n\n
URL:https://www.filmhuismechelen.be/vertoning/nick-cave-20-000-days-on-earth-openluchtcinema/
LOCATION:Goswin de Stassartstraat 88\, Mechelen\, 2800\, België
CATEGORIES:Externe vertoningen,Openluchtvertoning,Programma,Zomerfilms
END:VEVENT
END:VCALENDAR