BEGIN:VCALENDAR
VERSION:2.0
PRODID:-//Filmhuis Mechelen - ECPv4.3.1.1//NONSGML v1.0//EN
CALSCALE:GREGORIAN
METHOD:PUBLISH
X-WR-CALNAME:Filmhuis Mechelen
X-ORIGINAL-URL:https://www.filmhuismechelen.be
X-WR-CALDESC:Events for Filmhuis Mechelen
BEGIN:VEVENT
DTSTART;TZID=UTC+2:20180313T203000
DTEND;TZID=UTC+2:20180313T203000
DTSTAMP:20260425T155527
CREATED:20180222T140321Z
LAST-MODIFIED:20180222T140321Z
UID:9460-1520973000-1520973000@www.filmhuismechelen.be
SUMMARY:NI JUGE\, NI SOUMISE
DESCRIPTION:Vertoningen op:\nDINSDAG 13 MAART om 18u30.\nDINSDAG 13 MAART om 20u30.\n\n
URL:https://www.filmhuismechelen.be/vertoning/ni-juge-ni-soumise-2/
CATEGORIES:De dinsdagen van het Filmhuis,Documentaire,Programma
END:VEVENT
END:VCALENDAR