BEGIN:VCALENDAR
VERSION:2.0
PRODID:-//Filmhuis Mechelen - ECPv4.3.1.1//NONSGML v1.0//EN
CALSCALE:GREGORIAN
METHOD:PUBLISH
X-WR-CALNAME:Filmhuis Mechelen
X-ORIGINAL-URL:https://www.filmhuismechelen.be
X-WR-CALDESC:Events for Filmhuis Mechelen
BEGIN:VEVENT
DTSTART;TZID=UTC+1:20200203T183000
DTEND;TZID=UTC+1:20200203T183000
DTSTAMP:20260420T172615
CREATED:20200114T191809Z
LAST-MODIFIED:20200128T210316Z
UID:13609-1580754600-1580754600@www.filmhuismechelen.be
SUMMARY:MUIDHOND
DESCRIPTION:Vertoningen op:\nMAANDAG 3 FEBRUARI om 18u30.\nMAANDAG 17 FEBRUARI om 18u30.\n\nALLE INFO\, TRAILER & RECENSIES HIER!\n\n\nKijkwijzer:\n\n\n 
URL:https://www.filmhuismechelen.be/vertoning/muidhond/
CATEGORIES:Programma
END:VEVENT
END:VCALENDAR