BEGIN:VCALENDAR
VERSION:2.0
PRODID:-//Filmhuis Mechelen - ECPv4.3.1.1//NONSGML v1.0//EN
CALSCALE:GREGORIAN
METHOD:PUBLISH
X-WR-CALNAME:Filmhuis Mechelen
X-ORIGINAL-URL:https://www.filmhuismechelen.be
X-WR-CALDESC:Events for Filmhuis Mechelen
BEGIN:VEVENT
DTSTART;TZID=UTC+2:20191028T203000
DTEND;TZID=UTC+2:20191028T203000
DTSTAMP:20260421T031228
CREATED:20191002T090057Z
LAST-MODIFIED:20191009T190029Z
UID:12698-1572294600-1572294600@www.filmhuismechelen.be
SUMMARY:MOTHER
DESCRIPTION:Vertoning:\nMAANDAG 28 OKTOBER om 20u30.\n\nGevolgd door een Q&A met regisseur Kristof Bilsen en Jurn Verschaegen\, directeur van het Expertisecentrum Dementie Vlaanderen!\n\nALLE INFO\, TRAILER & RECENSIES HIER!\n\n
URL:https://www.filmhuismechelen.be/vertoning/mother/
CATEGORIES:Documentaire,Programma
END:VEVENT
END:VCALENDAR