BEGIN:VCALENDAR
VERSION:2.0
PRODID:-//Filmhuis Mechelen - ECPv4.3.1.1//NONSGML v1.0//EN
CALSCALE:GREGORIAN
METHOD:PUBLISH
X-WR-CALNAME:Filmhuis Mechelen
X-ORIGINAL-URL:https://www.filmhuismechelen.be
X-WR-CALDESC:Events for Filmhuis Mechelen
BEGIN:VEVENT
DTSTART;TZID=UTC+2:20200323T203000
DTEND;TZID=UTC+2:20200323T203000
DTSTAMP:20260421T022839
CREATED:20191216T144327Z
LAST-MODIFIED:20200312T161012Z
UID:13343-1584995400-1584995400@www.filmhuismechelen.be
SUMMARY:MOTHER - verschoven naar latere datum
DESCRIPTION:\nOPGELET: deze vertoning is vanwege de corona-pandemie VERSCHOVEN NAAR EEN LATER TE BEPALEN DATUM!\n\nGevolgd door een nabespreking met regisseur Kristof Bilsen\nen Dirk De Wachter (K.U.Leuven).\n\n \n\nVoor deze vertoning bedraagt de inkomprijs uitzonderlijk\n5 euro (leden) / 7 euro (niet-leden).\n\nALLE INFO\, TRAILER & RECENSIES HIER!\n\n
URL:https://www.filmhuismechelen.be/vertoning/mother-debat-met-dirk-de-wachter-kristof-bilsen/
CATEGORIES:Documentaire,Programma
END:VEVENT
END:VCALENDAR