BEGIN:VCALENDAR
VERSION:2.0
PRODID:-//Filmhuis Mechelen - ECPv4.3.1.1//NONSGML v1.0//EN
CALSCALE:GREGORIAN
METHOD:PUBLISH
X-WR-CALNAME:Filmhuis Mechelen
X-ORIGINAL-URL:https://www.filmhuismechelen.be
X-WR-CALDESC:Events for Filmhuis Mechelen
BEGIN:VEVENT
DTSTART;TZID=UTC+2:20201012T183000
DTEND;TZID=UTC+2:20201012T183000
DTSTAMP:20260421T020523
CREATED:20200909T174622Z
LAST-MODIFIED:20201001T172807Z
UID:17985-1602527400-1602527400@www.filmhuismechelen.be
SUMMARY:MONOS
DESCRIPTION:Kies de gewenste vertoning en koop uw tickets (maximum in bubbel van 5):\n\nTIP: koop eerst uw Filmhuis-seizoenkaart HIER\, u geniet dan van 2 euro korting per film!\n\nMAANDAG 5 OKTOBER om 20u30.\nTickets voor deze vertoning HIER!\n\nMAANDAG 12 OKTOBER om 18u30.\nTickets voor deze vertoning HIER!\n\n
URL:https://www.filmhuismechelen.be/vertoning/monos-6/
CATEGORIES:Programma
END:VEVENT
END:VCALENDAR