BEGIN:VCALENDAR
VERSION:2.0
PRODID:-//Filmhuis Mechelen - ECPv4.3.1.1//NONSGML v1.0//EN
CALSCALE:GREGORIAN
METHOD:PUBLISH
X-WR-CALNAME:Filmhuis Mechelen
X-ORIGINAL-URL:https://www.filmhuismechelen.be
X-WR-CALDESC:Events for Filmhuis Mechelen
BEGIN:VEVENT
DTSTART;TZID=UTC+2:20201005T203000
DTEND;TZID=UTC+2:20201005T203000
DTSTAMP:20260421T035043
CREATED:20200829T123519Z
LAST-MODIFIED:20201001T172602Z
UID:17669-1601929800-1601929800@www.filmhuismechelen.be
SUMMARY:MONOS
DESCRIPTION:Kies de gewenste vertoning en koop uw tickets (maximum in bubbel van 5):\n\nTIP: koop eerst uw Filmhuis-seizoenkaart HIER\, u geniet dan van 2 euro korting per film!\n\nMAANDAG 5 OKTOBER om 20u30.\nTickets voor deze vertoning HIER!\n\nMAANDAG 12 OKTOBER om 18u30.\nTickets voor deze vertoning HIER!\n\nALLE INFO\, TRAILER & RECENSIES HIER!\n\n\n Kijkwijzer:\n\n\n\n\n 
URL:https://www.filmhuismechelen.be/vertoning/monos-5/
CATEGORIES:Programma
END:VEVENT
END:VCALENDAR