BEGIN:VCALENDAR
VERSION:2.0
PRODID:-//Filmhuis Mechelen - ECPv4.3.1.1//NONSGML v1.0//EN
CALSCALE:GREGORIAN
METHOD:PUBLISH
X-WR-CALNAME:Filmhuis Mechelen
X-ORIGINAL-URL:https://www.filmhuismechelen.be
X-WR-CALDESC:Events for Filmhuis Mechelen
BEGIN:VEVENT
DTSTART;TZID=UTC+2:20200407T203000
DTEND;TZID=UTC+2:20200407T203000
DTSTAMP:20260420T154227
CREATED:20200123T100241Z
LAST-MODIFIED:20200324T124708Z
UID:13727-1586291400-1586291400@www.filmhuismechelen.be
SUMMARY:MONOS - verschoven naar latere datum
DESCRIPTION:UPDATE: deze vertoning is vanwege de corona-pandemie VERSCHOVEN NAAR EEN LATER TE BEPALEN DATUM!\n\nALLE INFO\, TRAILER & RECENSIES VINDT U HIER!\n\n\nKijkwijzer:\n\n\n 
URL:https://www.filmhuismechelen.be/vertoning/monos-2/
CATEGORIES:Programma
END:VEVENT
END:VCALENDAR