BEGIN:VCALENDAR
VERSION:2.0
PRODID:-//Filmhuis Mechelen - ECPv4.3.1.1//NONSGML v1.0//EN
CALSCALE:GREGORIAN
METHOD:PUBLISH
X-WR-CALNAME:Filmhuis Mechelen
X-ORIGINAL-URL:https://www.filmhuismechelen.be
X-WR-CALDESC:Events for Filmhuis Mechelen
BEGIN:VEVENT
DTSTART;TZID=UTC+2:20211005T183000
DTEND;TZID=UTC+2:20211005T183000
DTSTAMP:20260422T220244
CREATED:20210920T002655Z
LAST-MODIFIED:20210923T184050Z
UID:23155-1633458600-1633458600@www.filmhuismechelen.be
SUMMARY:MINARI 
DESCRIPTION:Vertoningen:\nDINSDAG 5 OKTOBER om 18u30 - tickets voor deze vertoning HIER!\nDINSDAG 19 OKTOBER om 20u30 - tickets voor deze vertoning HIER!\n\nTIP: koop eerst uw SEIZOENSKAART\, en bespaar zo 2 euro per ticket!\n\nALLE INFO\, TRAILER & RECENSIES HIER!\n\n
URL:https://www.filmhuismechelen.be/vertoning/minari/
LOCATION:Minderbroedersgang 5\, Mechelen\, 2800
CATEGORIES:De dinsdagen van het Filmhuis,Programma
END:VEVENT
END:VCALENDAR