BEGIN:VCALENDAR
VERSION:2.0
PRODID:-//Filmhuis Mechelen - ECPv4.3.1.1//NONSGML v1.0//EN
CALSCALE:GREGORIAN
METHOD:PUBLISH
X-WR-CALNAME:Filmhuis Mechelen
X-ORIGINAL-URL:https://www.filmhuismechelen.be
X-WR-CALDESC:Events for Filmhuis Mechelen
BEGIN:VEVENT
DTSTART;TZID=UTC+2:20190507T183000
DTEND;TZID=UTC+2:20190507T183000
DTSTAMP:20260421T082644
CREATED:20190329T135523Z
LAST-MODIFIED:20190419T090450Z
UID:11771-1557253800-1557253800@www.filmhuismechelen.be
SUMMARY:MID90S
DESCRIPTION:\n\nVertoningen:\nDINSDAG 7 MEI om 18u30.\nMAANDAG 13 MEI om 18u30.\nDINSDAG 21 MEI om 20u40.\n\nAlle info\, trailer en recensies HIER!\n\n \n\n \n\n
URL:https://www.filmhuismechelen.be/vertoning/mid90s/
CATEGORIES:De dinsdagen van het Filmhuis,Programma
END:VEVENT
END:VCALENDAR