BEGIN:VCALENDAR
VERSION:2.0
PRODID:-//Filmhuis Mechelen - ECPv4.3.1.1//NONSGML v1.0//EN
CALSCALE:GREGORIAN
METHOD:PUBLISH
X-WR-CALNAME:Filmhuis Mechelen
X-ORIGINAL-URL:https://www.filmhuismechelen.be
X-WR-CALDESC:Events for Filmhuis Mechelen
BEGIN:VEVENT
DTSTART;TZID=UTC+2:20181126T183000
DTEND;TZID=UTC+2:20181126T183000
DTSTAMP:20260422T051447
CREATED:20181116T183351Z
LAST-MODIFIED:20181116T185214Z
UID:10818-1543257000-1543257000@www.filmhuismechelen.be
SUMMARY:Mechelen Hiphopstad: SONITA + THUG LIFE
DESCRIPTION:Vertoning:\nMAANDAG 26 NOVEMBER om 18u30.\n\nIn het kader van\nMechelen Hiphopstad!\n\n\n\n
URL:https://www.filmhuismechelen.be/vertoning/mechelen-hiphopstad-sonita-thug-life/
CATEGORIES:Documentaire,Programma
END:VEVENT
END:VCALENDAR