BEGIN:VCALENDAR
VERSION:2.0
PRODID:-//Filmhuis Mechelen - ECPv4.3.1.1//NONSGML v1.0//EN
CALSCALE:GREGORIAN
METHOD:PUBLISH
X-WR-CALNAME:Filmhuis Mechelen
X-ORIGINAL-URL:https://www.filmhuismechelen.be
X-WR-CALDESC:Events for Filmhuis Mechelen
BEGIN:VEVENT
DTSTART;TZID=UTC+2:20181126T203000
DTEND;TZID=UTC+2:20181126T203000
DTSTAMP:20260422T031747
CREATED:20181116T183754Z
LAST-MODIFIED:20181116T183754Z
UID:10822-1543264200-1543264200@www.filmhuismechelen.be
SUMMARY:Mechelen Hiphopstad: SILVANA
DESCRIPTION:Vertoning:\nMAANDAG 26 NOVEMBER om 20u30.\n\nIn het kader van Mechelen Hiphopstad en het Holebifilmfestival!\n\n\n
URL:https://www.filmhuismechelen.be/vertoning/mechelen-hiphopstad-silvana/
CATEGORIES:Documentaire,Programma
END:VEVENT
END:VCALENDAR