BEGIN:VCALENDAR
VERSION:2.0
PRODID:-//Filmhuis Mechelen - ECPv4.3.1.1//NONSGML v1.0//EN
CALSCALE:GREGORIAN
METHOD:PUBLISH
X-WR-CALNAME:Filmhuis Mechelen
X-ORIGINAL-URL:https://www.filmhuismechelen.be
X-WR-CALDESC:Events for Filmhuis Mechelen
BEGIN:VEVENT
DTSTART;TZID=UTC+2:20191230T183000
DTEND;TZID=UTC+2:20191230T183000
DTSTAMP:20260421T003136
CREATED:20191120T224631Z
LAST-MODIFIED:20191227T202339Z
UID:13105-1577730600-1577730600@www.filmhuismechelen.be
SUMMARY:MARRIAGE STORY
DESCRIPTION:Vertoningen:\nMAANDAG 30 DECEMBER om 18u30.\nMAANDAG 6 JANUARI om 20u00.\n\nLet op de ongewone vertoningsuren!\n\nALLE INFO\, TRAILER EN RECENSIES HIER!\n\n
URL:https://www.filmhuismechelen.be/vertoning/marriage-story/
CATEGORIES:Programma
END:VEVENT
END:VCALENDAR