BEGIN:VCALENDAR
VERSION:2.0
PRODID:-//Filmhuis Mechelen - ECPv4.3.1.1//NONSGML v1.0//EN
CALSCALE:GREGORIAN
METHOD:PUBLISH
X-WR-CALNAME:Filmhuis Mechelen
X-ORIGINAL-URL:https://www.filmhuismechelen.be
X-WR-CALDESC:Events for Filmhuis Mechelen
BEGIN:VEVENT
DTSTART;TZID=UTC+2:20191227T200000
DTEND;TZID=UTC+2:20191227T200000
DTSTAMP:20260421T003223
CREATED:20191204T182858Z
LAST-MODIFIED:20191215T135747Z
UID:13177-1577476800-1577476800@www.filmhuismechelen.be
SUMMARY:MARRIAGE STORY
DESCRIPTION:Vertoningen:\nVRIJDAG 27 DECEMBER om 20u00.\nMAANDAG 30 DECEMBER om 18u30.\nMAANDAG 6 JANUARI om 20u00.\n\nLet op de ongewone vertoningsuren!\n\nALLE INFO\, TRAILER EN RECENSIES HIER!
URL:https://www.filmhuismechelen.be/vertoning/marriage-story-3/
CATEGORIES:Programma
END:VEVENT
END:VCALENDAR