BEGIN:VCALENDAR
VERSION:2.0
PRODID:-//Filmhuis Mechelen - ECPv4.3.1.1//NONSGML v1.0//EN
CALSCALE:GREGORIAN
METHOD:PUBLISH
X-WR-CALNAME:Filmhuis Mechelen
X-ORIGINAL-URL:https://www.filmhuismechelen.be
X-WR-CALDESC:Events for Filmhuis Mechelen
BEGIN:VEVENT
DTSTART;TZID=UTC+2:20200106T200000
DTEND;TZID=UTC+2:20200106T200000
DTSTAMP:20260420T223513
CREATED:20191120T225000Z
LAST-MODIFIED:20191230T174542Z
UID:13109-1578340800-1578340800@www.filmhuismechelen.be
SUMMARY:MARRIAGE STORY
DESCRIPTION:Vertoning:\nMAANDAG 6 JANUARI om 20u00.\n\nLet op het ongewone vertoningsuur!\n\nALLE INFO\, TRAILER EN RECENSIES HIER!\n\n
URL:https://www.filmhuismechelen.be/vertoning/marriage-story-2/
CATEGORIES:Programma
END:VEVENT
END:VCALENDAR