BEGIN:VCALENDAR
VERSION:2.0
PRODID:-//Filmhuis Mechelen - ECPv4.3.1.1//NONSGML v1.0//EN
CALSCALE:GREGORIAN
METHOD:PUBLISH
X-WR-CALNAME:Filmhuis Mechelen
X-ORIGINAL-URL:https://www.filmhuismechelen.be
X-WR-CALDESC:Events for Filmhuis Mechelen
BEGIN:VEVENT
DTSTART;TZID=UTC+2:20180319T203000
DTEND;TZID=UTC+2:20180319T203000
DTSTAMP:20260425T173241
CREATED:20180226T143123Z
LAST-MODIFIED:20180226T143123Z
UID:9525-1521491400-1521491400@www.filmhuismechelen.be
SUMMARY:MARIA BY CALLAS
DESCRIPTION:Vertoning om 20u30.\n\nEen organisatie i.s.m. Conservatorium Mechelen.\n\n\n
URL:https://www.filmhuismechelen.be/vertoning/maria-by-callas/
CATEGORIES:Documentaire,Programma
END:VEVENT
END:VCALENDAR