BEGIN:VCALENDAR
VERSION:2.0
PRODID:-//Filmhuis Mechelen - ECPv4.3.1.1//NONSGML v1.0//EN
CALSCALE:GREGORIAN
METHOD:PUBLISH
X-WR-CALNAME:Filmhuis Mechelen
X-ORIGINAL-URL:https://www.filmhuismechelen.be
X-WR-CALDESC:Events for Filmhuis Mechelen
BEGIN:VEVENT
DTSTART;TZID=UTC+2:20180320T183000
DTEND;TZID=UTC+2:20180320T183000
DTSTAMP:20260425T191423
CREATED:20180302T010707Z
LAST-MODIFIED:20180302T010707Z
UID:9559-1521570600-1521570600@www.filmhuismechelen.be
SUMMARY:MARIA BY CALLAS
DESCRIPTION: \n\n \n\n \n\n \n\n \n\n \n\nTWEE VERTONINGEN:\nMAANDAG 19 MAART om 20u30.\nDINSDAG 20 MAART om 18u30.\n\nEen organisatie i.s.m. Conservatorium Mechelen.\n\n
URL:https://www.filmhuismechelen.be/vertoning/maria-by-callas-2/
CATEGORIES:Documentaire,Programma
END:VEVENT
END:VCALENDAR