BEGIN:VCALENDAR
VERSION:2.0
PRODID:-//Filmhuis Mechelen - ECPv4.3.1.1//NONSGML v1.0//EN
CALSCALE:GREGORIAN
METHOD:PUBLISH
X-WR-CALNAME:Filmhuis Mechelen
X-ORIGINAL-URL:https://www.filmhuismechelen.be
X-WR-CALDESC:Events for Filmhuis Mechelen
BEGIN:VEVENT
DTSTART;TZID=UTC+2:20190430T183000
DTEND;TZID=UTC+2:20190430T183000
DTSTAMP:20260421T095710
CREATED:20190329T105231Z
LAST-MODIFIED:20190330T145310Z
UID:11762-1556649000-1556649000@www.filmhuismechelen.be
SUMMARY:MAMA AFRICA - THE MANY VOICES OF MIRIAM MAKEBA
DESCRIPTION:Vertoning:\nDINSDAG 30 APRIL om 18u30.\n\nDe keuzefilm van Junior Mthombeni\, winnaar van de Artist Award van het Afrika Filmfestival!\n\nAlle info\, trailer en recensies HIER!\n\n
URL:https://www.filmhuismechelen.be/vertoning/mama-africa-the-many-voices-of-miriam-makeba-2/
CATEGORIES:De dinsdagen van het Filmhuis,Documentaire
END:VEVENT
END:VCALENDAR