BEGIN:VCALENDAR
VERSION:2.0
PRODID:-//Filmhuis Mechelen - ECPv4.3.1.1//NONSGML v1.0//EN
CALSCALE:GREGORIAN
METHOD:PUBLISH
X-WR-CALNAME:Filmhuis Mechelen
X-ORIGINAL-URL:https://www.filmhuismechelen.be
X-WR-CALDESC:Events for Filmhuis Mechelen
BEGIN:VEVENT
DTSTART;TZID=UTC+2:20220201T204000
DTEND;TZID=UTC+2:20220201T204000
DTSTAMP:20260421T060725
CREATED:20220103T110733Z
LAST-MODIFIED:20220125T174227Z
UID:24074-1643748000-1643748000@www.filmhuismechelen.be
SUMMARY:MADRES PARALELAS
DESCRIPTION:Vertoning:\nDINSDAG 1 FEBRUARI om 20u40 - TICKETS voor deze vertoning HIER!\n\nTIP: koop eerst een SEIZOENSKAART\, en bespaar zo 2 euro per ticket.\n\nALLE INFO & TRAILER HIER!\n\n
URL:https://www.filmhuismechelen.be/vertoning/madres-paralelas-3/
LOCATION:Minderbroedersgang 5\, Mechelen\, 2800
CATEGORIES:De dinsdagen van het Filmhuis,Programma
END:VEVENT
END:VCALENDAR