BEGIN:VCALENDAR
VERSION:2.0
PRODID:-//Filmhuis Mechelen - ECPv4.3.1.1//NONSGML v1.0//EN
CALSCALE:GREGORIAN
METHOD:PUBLISH
X-WR-CALNAME:Filmhuis Mechelen
X-ORIGINAL-URL:https://www.filmhuismechelen.be
X-WR-CALDESC:Events for Filmhuis Mechelen
BEGIN:VEVENT
DTSTART;TZID=UTC+2:20180123T183000
DTEND;TZID=UTC+2:20180123T183000
DTSTAMP:20260425T161907
CREATED:20171129T185817Z
LAST-MODIFIED:20171129T193151Z
UID:8738-1516732200-1516732200@www.filmhuismechelen.be
SUMMARY:LUMIERE! L'AVENTURE COMMENCE
DESCRIPTION:Vertoning om 18u30.\n(om 20u30 vertonen we 'THE SQUARE' van Ruben Ostlund)\n\n
URL:https://www.filmhuismechelen.be/vertoning/lumiere-laventure-commence-2/
CATEGORIES:Documentaire,Klassiekers,Programma
END:VEVENT
END:VCALENDAR