BEGIN:VCALENDAR
VERSION:2.0
PRODID:-//Filmhuis Mechelen - ECPv4.3.1.1//NONSGML v1.0//EN
CALSCALE:GREGORIAN
METHOD:PUBLISH
X-WR-CALNAME:Filmhuis Mechelen
X-ORIGINAL-URL:https://www.filmhuismechelen.be
X-WR-CALDESC:Events for Filmhuis Mechelen
BEGIN:VEVENT
DTSTART;TZID=UTC+2:20180227T203000
DTEND;TZID=UTC+2:20180227T203000
DTSTAMP:20260425T155016
CREATED:20180116T115412Z
LAST-MODIFIED:20180117T125405Z
UID:9283-1519763400-1519763400@www.filmhuismechelen.be
SUMMARY:LUCKY
DESCRIPTION:DRIE VERTONINGEN!\nDinsdag 27/2 om 18u30.\nDinsdag 27/2 om 20u30.\nMaandag 5/3 om 18u30.\n\n
URL:https://www.filmhuismechelen.be/vertoning/lucky-2/
CATEGORIES:De dinsdagen van het Filmhuis,Programma
END:VEVENT
END:VCALENDAR