BEGIN:VCALENDAR
VERSION:2.0
PRODID:-//Filmhuis Mechelen - ECPv4.3.1.1//NONSGML v1.0//EN
CALSCALE:GREGORIAN
METHOD:PUBLISH
X-WR-CALNAME:Filmhuis Mechelen
X-ORIGINAL-URL:https://www.filmhuismechelen.be
X-WR-CALDESC:Events for Filmhuis Mechelen
BEGIN:VEVENT
DTSTART;TZID=UTC+2:20190326T183000
DTEND;TZID=UTC+2:20190326T183000
DTSTAMP:20260421T145828
CREATED:20190228T154145Z
LAST-MODIFIED:20190313T151502Z
UID:11507-1553625000-1553625000@www.filmhuismechelen.be
SUMMARY:LOST HIGHWAY (gerestaureerde versie)
DESCRIPTION:Vertoning:\nDINSDAG 26 MAART om 18u30.\nDINSDAG 2 APRIL om 20u30.\n\nAlle info & trailer HIER!\n\n
URL:https://www.filmhuismechelen.be/vertoning/lost-highway-gerestaureerde-versie/
CATEGORIES:De dinsdagen van het Filmhuis,Klassiekers,Programma
END:VEVENT
END:VCALENDAR