BEGIN:VCALENDAR
VERSION:2.0
PRODID:-//Filmhuis Mechelen - ECPv4.3.1.1//NONSGML v1.0//EN
CALSCALE:GREGORIAN
METHOD:PUBLISH
X-WR-CALNAME:Filmhuis Mechelen
X-ORIGINAL-URL:https://www.filmhuismechelen.be
X-WR-CALDESC:Events for Filmhuis Mechelen
BEGIN:VEVENT
DTSTART;TZID=UTC+2:20190304T203000
DTEND;TZID=UTC+2:20190304T203000
DTSTAMP:20260421T162838
CREATED:20190116T181242Z
LAST-MODIFIED:20190117T021933Z
UID:11184-1551731400-1551731400@www.filmhuismechelen.be
SUMMARY:KICHKA: LIFE IS A CARTOON
DESCRIPTION:Vertoning:\nMAANDAG 4 MAART om 20u30.\n\nAlle info over deze vertoning vindt u HIER!\n\nEen organisatie i.s.m. Kazerne Dossin.\nIn het kader van de tentoonstelling 'Holocaust en strips'\n\n
URL:https://www.filmhuismechelen.be/vertoning/life-is-a-cartoon/
CATEGORIES:Documentaire,Programma
END:VEVENT
END:VCALENDAR