BEGIN:VCALENDAR
VERSION:2.0
PRODID:-//Filmhuis Mechelen - ECPv4.3.1.1//NONSGML v1.0//EN
CALSCALE:GREGORIAN
METHOD:PUBLISH
X-WR-CALNAME:Filmhuis Mechelen
X-ORIGINAL-URL:https://www.filmhuismechelen.be
X-WR-CALDESC:Events for Filmhuis Mechelen
BEGIN:VEVENT
DTSTART;TZID=UTC+2:20190122T203000
DTEND;TZID=UTC+2:20190122T203000
DTSTAMP:20260421T183343
CREATED:20181213T184556Z
LAST-MODIFIED:20190117T015020Z
UID:11011-1548189000-1548189000@www.filmhuismechelen.be
SUMMARY:LIEBE IN DEN GÄNGEN
DESCRIPTION:Vertoningen:\nDINSDAG 22 JANUARI om 20u30.\nMAANDAG 28 JANUARI om 18u30.\n\nAlle info\, trailer en recensies vindt u HIER!\n\n
URL:https://www.filmhuismechelen.be/vertoning/liebe-in-den-gangen-2/
CATEGORIES:De dinsdagen van het Filmhuis,Programma
END:VEVENT
END:VCALENDAR