BEGIN:VCALENDAR
VERSION:2.0
PRODID:-//Filmhuis Mechelen - ECPv4.3.1.1//NONSGML v1.0//EN
CALSCALE:GREGORIAN
METHOD:PUBLISH
X-WR-CALNAME:Filmhuis Mechelen
X-ORIGINAL-URL:https://www.filmhuismechelen.be
X-WR-CALDESC:Events for Filmhuis Mechelen
BEGIN:VEVENT
DTSTART;TZID=UTC+2:20220405T204500
DTEND;TZID=UTC+2:20220405T204500
DTSTAMP:20260421T073950
CREATED:20220228T151937Z
LAST-MODIFIED:20220405T193102Z
UID:24854-1649191500-1649191500@www.filmhuismechelen.be
SUMMARY:LICORICE PIZZA
DESCRIPTION:Vertoning:\n- MAANDAG 11 APRIL om 20u30 - tickets voor deze vertoning HIER!\n\n\nTIP: koop eerst een SEIZOENSKAART\, en bespaar zo 2 euro per ticket.\n\n
URL:https://www.filmhuismechelen.be/vertoning/licorice-pizza-3/
LOCATION:Minderbroedersgang 5\, Mechelen\, 2800
CATEGORIES:De dinsdagen van het Filmhuis,Programma
END:VEVENT
END:VCALENDAR