BEGIN:VCALENDAR
VERSION:2.0
PRODID:-//Filmhuis Mechelen - ECPv4.3.1.1//NONSGML v1.0//EN
CALSCALE:GREGORIAN
METHOD:PUBLISH
X-WR-CALNAME:Filmhuis Mechelen
X-ORIGINAL-URL:https://www.filmhuismechelen.be
X-WR-CALDESC:Events for Filmhuis Mechelen
BEGIN:VEVENT
DTSTART;TZID=UTC+2:20220315T203000
DTEND;TZID=UTC+2:20220315T203000
DTSTAMP:20260421T042920
CREATED:20220228T150235Z
LAST-MODIFIED:20220311T081524Z
UID:24840-1647376200-1647376200@www.filmhuismechelen.be
SUMMARY:L'EVENEMENT
DESCRIPTION:Vertoningen:\n- DINSDAG 15 MAART om 20u30 - tickets voor deze vertoning HIER!\n- MAANDAG 28 MAART om 18u30 - tickets voor deze vertoning HIER!\n- MAANDAG 4 APRIL om 18u30 - tickets voor deze vertoning HIER!\n\n\nTIP: koop eerst een SEIZOENSKAART\, en bespaar zo 2 euro per ticket.\n\nALLE INFO\, TRAILER & RECENSIES HIER!\n\n
URL:https://www.filmhuismechelen.be/vertoning/levenement/
LOCATION:Minderbroedersgang 5\, Mechelen\, 2800
CATEGORIES:De dinsdagen van het Filmhuis,Programma
END:VEVENT
END:VCALENDAR